BEGIN:VCALENDAR
VERSION:2.0
PRODID:-//PCASTURIAS - ECPv4.0.5//NONSGML v1.0//EN
CALSCALE:GREGORIAN
METHOD:PUBLISH
X-WR-CALNAME:PCASTURIAS
X-ORIGINAL-URL:https://pcasturias.org
X-WR-CALDESC:Events for PCASTURIAS
BEGIN:VEVENT
DTSTART;TZID="UTC+1":20180518T193000
DTEND;TZID="UTC+1":20180518T210000
DTSTAMP:20260422T122332
CREATED:20180514T093643
LAST-MODIFIED:20180514T093828
UID:6021-1526671800-1526677200@pcasturias.org
SUMMARY:Tejiendo redes con las Towanda Rebels
DESCRIPTION:El próximo viernes\, 18 de mayo\, en el marco de las II Jornadas "Tejiendo Redes"\, el MDM Asturias (Movimiento Democrático de Mujeres) organizan un acto con las conocidas youtubers Towanda Rebels.\nPara las/los que no las conozcáis\, os recomendamos que entréis en su canal de youtube: https://www.youtube.com/channel/UCr4l0skM9D5RcY4Cwd2V-MA y que no os perdáis esta gran oportunidad de escucharlas.\n¡Feminismo para avanzar!\n¡Acude y difunde!
URL:https://pcasturias.org/event/tejiendo-redes-con-las-towanda-rebels/
LOCATION:Calle San Francisco 1\, Oviedo\, Asturias\, 33003\, España
CATEGORIES:Charla-coloquio
ATTACH;FMTTYPE=image/jpeg:https://pcasturias.org/wp-content/uploads/2018/05/IMG_0139.jpg
ORGANIZER;CN="MDM-Asturias":MAILTO:asturiasmdm@gmail.com
END:VEVENT
END:VCALENDAR