BEGIN:VCALENDAR
VERSION:2.0
PRODID:-//PCASTURIAS - ECPv4.0.5//NONSGML v1.0//EN
CALSCALE:GREGORIAN
METHOD:PUBLISH
X-WR-CALNAME:PCASTURIAS
X-ORIGINAL-URL:https://pcasturias.org
X-WR-CALDESC:Events for PCASTURIAS
BEGIN:VEVENT
DTSTART;TZID="UTC+1":20190208T190000
DTEND;TZID="UTC+1":20190208T210000
DTSTAMP:20260422T122333
CREATED:20190205T134217
LAST-MODIFIED:20190205T134217
UID:6804-1549652400-1549659600@pcasturias.org
SUMMARY:Charla "La Vida en el Centro"
DESCRIPTION:\n\nViernes 8 de febrero\, a las 19:00 h\, en la Biblioteca del Fontán\, charla "La Vida en el Centro"\, organizada por la Comisión de Cuidados de Asturias 8M
URL:https://pcasturias.org/event/charla-la-vida-en-el-centro/
LOCATION:Oviedo\, España
CATEGORIES:Charla-coloquio
ATTACH;FMTTYPE=image/png:https://pcasturias.org/wp-content/uploads/2019/02/03.png
END:VEVENT
END:VCALENDAR