BEGIN:VCALENDAR
VERSION:2.0
PRODID:-//PCASTURIAS - ECPv4.0.5//NONSGML v1.0//EN
CALSCALE:GREGORIAN
METHOD:PUBLISH
X-WR-CALNAME:PCASTURIAS
X-ORIGINAL-URL:https://pcasturias.org
X-WR-CALDESC:Events for PCASTURIAS
BEGIN:VEVENT
DTSTART;TZID="UTC+1":20160628T180000
DTEND;TZID="UTC+1":20160628T200000
DTSTAMP:20260422T122808
CREATED:20160624T161335
LAST-MODIFIED:20160624T161335
UID:4594-1467136800-1467144000@pcasturias.org
SUMMARY:Charla Coloquio "Federación de Mujeres Cubanas: historia y ejemplo"
DESCRIPTION:El martes 28 de junio\, el Movimiento Democrático de Mujeres de Asturias organiza en Oviedo una charla con Dania Rodríguez Gutiérrez\, miembro del Comité Nacional de la Federación de Mujeres Cubanas\, que nos contará la historia de esta organización y cómo su ejemplo es un referente para el Movimiento Democrático de Mujeres. Podremos escucharla\, charlar con ella y tener un coloquio sobre la realidad cubana y el papel que la FMC en el feminismo cubano y la organización de las mujeres.\nNos vemos el martes 28 a las 18:00h en el aula "Leopoldo Alas" del Edificio Histórico de la Universidad de Oviedo.\n¡No te lo puedes perder!
URL:https://pcasturias.org/event/charla-coloquio-federacion-de-mujeres-cubanas-historia-y-ejemplo/
LOCATION:C/San Francisco nº1\, Oviedo\, Asturias\, 33003\, España
ATTACH;FMTTYPE=image/jpeg:https://pcasturias.org/wp-content/uploads/2016/06/MDM_acto.jpg
END:VEVENT
END:VCALENDAR